BEGIN:VCALENDAR
VERSION:2.0
PRODID:-//Sunny Mary Meadow - ECPv6.15.20//NONSGML v1.0//EN
CALSCALE:GREGORIAN
METHOD:PUBLISH
X-ORIGINAL-URL:https://sunnymarymeadow.com
X-WR-CALDESC:Events for Sunny Mary Meadow
REFRESH-INTERVAL;VALUE=DURATION:PT1H
X-Robots-Tag:noindex
X-PUBLISHED-TTL:PT1H
BEGIN:VTIMEZONE
TZID:America/New_York
BEGIN:DAYLIGHT
TZOFFSETFROM:-0500
TZOFFSETTO:-0400
TZNAME:EDT
DTSTART:20220313T070000
END:DAYLIGHT
BEGIN:STANDARD
TZOFFSETFROM:-0400
TZOFFSETTO:-0500
TZNAME:EST
DTSTART:20221106T060000
END:STANDARD
BEGIN:DAYLIGHT
TZOFFSETFROM:-0500
TZOFFSETTO:-0400
TZNAME:EDT
DTSTART:20230312T070000
END:DAYLIGHT
BEGIN:STANDARD
TZOFFSETFROM:-0400
TZOFFSETTO:-0500
TZNAME:EST
DTSTART:20231105T060000
END:STANDARD
BEGIN:DAYLIGHT
TZOFFSETFROM:-0500
TZOFFSETTO:-0400
TZNAME:EDT
DTSTART:20240310T070000
END:DAYLIGHT
BEGIN:STANDARD
TZOFFSETFROM:-0400
TZOFFSETTO:-0500
TZNAME:EST
DTSTART:20241103T060000
END:STANDARD
END:VTIMEZONE
BEGIN:VEVENT
DTSTART;TZID=America/New_York:20230902T073000
DTEND;TZID=America/New_York:20230902T103000
DTSTAMP:20260423T092510
CREATED:20230831T145931Z
LAST-MODIFIED:20230831T145931Z
UID:10000094-1693639800-1693650600@sunnymarymeadow.com
SUMMARY:You Picks at the Farm - September 2
DESCRIPTION:Come and pick your own flower bouquet and enjoy the cool and quiet mornings over the meadow.  You can come any time in the morning time frame given\, with most people choosing to say about an hour.  We provide the cups & scissors and you can fill them up with your favorite looking flowers.  Second Street Coffeehouse will be pouring the cold brews and serving treats.  Feel free to bring a picnic breakfast to enjoy on our picnic tables.  Instructions for picking will be provided.  Don’t forget to bring your camera!  There is also a playset for littles. \nA few details to keep it fun for everyone: Please remember that we live here and be respectful of our home and property.  Tickets are nonrefundable.  Show your ticket or give your name at check-in.  Held rain or shine.  Please no pets as our dog will get very jealous and our chickens are free-range and need to be kept safe.  Wear comfortable shoes that may get muddy if it recently rained.  There is quite a bit of walking on uneven terrain involved.  If you need to request to drive up to the meadow for handicapped\, please send an email to liz@sunnymarymeadow.com and we can give instructions to access via the back driveway.  Strollers are welcome but know the grass paths aren’t always the easiest to push on.  Held rain or shine – umbrellas are fun! Bug spray + sunscreen strongly recommended.  Also\, remember that bees love flowers so use caution if you have an allergy.  There is no public restroom on site.  Some of the flowers that need to be picked a certain way (i.e. dahlias) will be pre-picked for you to take a few. \nEveryone needs either a picking ticket or a watching ticket.  Thank you for understanding that this policy was given a lot of thought and many factors went into this decision.  Please check out the “kids classes” options as I provided those for more family-friendly events for the kids that may not be too interested in the flowers!  Thank you and we can’t wait to share our farm with you.
URL:https://sunnymarymeadow.com/event/you-picks-at-the-farm-september-2/
LOCATION:Sunny Mary Meadow\, 8664 360th St\, St. Joseph\, MN\, 56374
ORGANIZER;CN="Elizabeth Fiedler":MAILTO:liz@sunnymarymeadow.com
GEO:45.6441457;-94.290437
X-APPLE-STRUCTURED-LOCATION;VALUE=URI;X-ADDRESS=Sunny Mary Meadow 8664 360th St St. Joseph MN 56374;X-APPLE-RADIUS=500;X-TITLE=8664 360th St:geo:-94.290437,45.6441457
END:VEVENT
BEGIN:VEVENT
DTSTART;TZID=America/New_York:20230905T100000
DTEND;TZID=America/New_York:20230905T103000
DTSTAMP:20260423T092510
CREATED:20230601T200911Z
LAST-MODIFIED:20230601T200911Z
UID:10000059-1693908000-1693909800@sunnymarymeadow.com
SUMMARY:Tuesday Tours - September 5
DESCRIPTION:So many of you have requested to come and visit the farm and get a full ins & outs tour\, and this is your chance!  We show you where and how the flowers are grown\, the high tunnel\, the cooler\, the flower fields\, and share our story.  Each participant needs either a tour or tour + bouquet ticket. \nTour will last approximately 30 minutes.  Wear comfortable shoes that may get muddy if it recently rained.  There is quite a bit of walking on uneven terrain involved.  Held rain or shine – umbrellas are fun! \nPlease note: this isn’t a comprehensive flower farming business tour.  I am happy to answer general flower farming questions and help out other farmers\, but this is moreso from the lens of the customer.  If you want a comprehensive “business” tour\, please send an email to discuss our consulting services.
URL:https://sunnymarymeadow.com/event/tuesday-tours-september-5/
LOCATION:Sunny Mary Meadow\, 8664 360th St\, St. Joseph\, MN\, 56374
ORGANIZER;CN="Elizabeth Fiedler":MAILTO:liz@sunnymarymeadow.com
GEO:45.6441457;-94.290437
X-APPLE-STRUCTURED-LOCATION;VALUE=URI;X-ADDRESS=Sunny Mary Meadow 8664 360th St St. Joseph MN 56374;X-APPLE-RADIUS=500;X-TITLE=8664 360th St:geo:-94.290437,45.6441457
END:VEVENT
BEGIN:VEVENT
DTSTART;TZID=America/New_York:20230905T163000
DTEND;TZID=America/New_York:20230905T183000
DTSTAMP:20260423T092510
CREATED:20230411T004233Z
LAST-MODIFIED:20230411T004233Z
UID:10000048-1693931400-1693938600@sunnymarymeadow.com
SUMMARY:Stem Bar at Back Shed Brewing
DESCRIPTION:No need to sign up ahead of time. Liz or Lindsay will be there to help you make a bouquet. (Available until 6:30 or until sold out) \nPrice: $20-$30 depending on bouquet size\nCash or Venmo accepted
URL:https://sunnymarymeadow.com/event/stem-bar-at-back-shed-brewing/2023-09-05/
LOCATION:Back Shed Brewery\, Waite Park\, MN\, United States
END:VEVENT
BEGIN:VEVENT
DTSTART;TZID=America/New_York:20230906T173000
DTEND;TZID=America/New_York:20230906T193000
DTSTAMP:20260423T092510
CREATED:20230822T175352Z
LAST-MODIFIED:20230822T175352Z
UID:10000092-1694021400-1694028600@sunnymarymeadow.com
SUMMARY:Mosaic Vase & Bouquet Class
DESCRIPTION:Join us for an enchanting evening of creativity with Laura Liz Mosaic Biz and Sunny Mary Meadow at the farm in St. Joseph\, MN. Experience the delightful fusion of fresh farm flowers and captivating stained-glass art and create your unique glass-on-glass mosaic vase. \nNo matter your skill level\, everyone is invited to take part in this beginner-friendly class. The class starts promptly at 5:30pm\, so please ensure you arrive at least 15 minutes before to settle in and prepare for the evening. \nAll the essential materials will be provided\, ensuring that you have everything you need to bring your mosaic vase to life. And for the finishing touch\, a “takeout bag” of grout will be supplied\, allowing you to complete your artwork in the comfort of your own home.  You will also receive a beautiful pre-made bouquet from Sunny Mary Meadow. \nThis event will take place rain or shine and feel free to bring your own refreshments to enjoy during the class. \nPlease note that tickets are non-refundable and must be acquired prior to the event. \nWe can’t wait to share this creative adventure with you! \nlink to sign up:\nhttps://www.signupgenius.com/go/10C0C44AFA922A7FFCF8-bouquets#/
URL:https://sunnymarymeadow.com/event/mosaic-vase-bouquet-class/
LOCATION:Sunny Mary Meadow\, 8664 360th St\, St. Joseph\, MN\, 56374
GEO:45.6441457;-94.290437
X-APPLE-STRUCTURED-LOCATION;VALUE=URI;X-ADDRESS=Sunny Mary Meadow 8664 360th St St. Joseph MN 56374;X-APPLE-RADIUS=500;X-TITLE=8664 360th St:geo:-94.290437,45.6441457
END:VEVENT
BEGIN:VEVENT
DTSTART;TZID=America/New_York:20230907T054500
DTEND;TZID=America/New_York:20230907T064500
DTSTAMP:20260423T092510
CREATED:20230730T214637Z
LAST-MODIFIED:20230730T214637Z
UID:10000087-1694065500-1694069100@sunnymarymeadow.com
SUMMARY:Sunrise Yoga in the Meadow with Shanti Yoga
DESCRIPTION:Join us for early morning yoga (5:45am!) at a very beautiful location\, Sunny Mary Meadows near St Joseph\, MN. We will start Thursday\, August 24 and will continue weekly classes through September 28. Cost includes yoga and a flower bouquet – $45.00. \nAll are welcome for this gentle wake up and welcome the sun practice. Outdoor yoga offers a chance to change your scenery and participate in a movement practice that enlivens your spirit and elevates your mindset and mood. Nature awakens your sense and helps you connect with your surroundings. Fresh air heightens your awareness of your breath and the smell of the flowers and outdoors can contribute to clarity and the ability to be in the present moment. \nWe ask that you please pre book for these classes due to high demand and limited space. This also helps Sunny Mary Meadows prepare bouquets for all! Brighten your day\, your home\, your workplace\, your mind with “Yoga in the Meadow!” \nLink to purchase: \nhttps://momence.com/Jessie-Sandoval/Yoga-in-the-Meadow/87747175?skipPreview=true
URL:https://sunnymarymeadow.com/event/sunrise-yoga-in-the-meadow-with-shanti-yoga/2023-09-07/
LOCATION:Sunny Mary Meadow\, 8664 360th St\, St. Joseph\, MN\, 56374
GEO:45.6441457;-94.290437
X-APPLE-STRUCTURED-LOCATION;VALUE=URI;X-ADDRESS=Sunny Mary Meadow 8664 360th St St. Joseph MN 56374;X-APPLE-RADIUS=500;X-TITLE=8664 360th St:geo:-94.290437,45.6441457
END:VEVENT
BEGIN:VEVENT
DTSTART;TZID=America/New_York:20230909T073000
DTEND;TZID=America/New_York:20230909T103000
DTSTAMP:20260423T092510
CREATED:20230602T000609Z
LAST-MODIFIED:20230602T000609Z
UID:10000070-1694244600-1694255400@sunnymarymeadow.com
SUMMARY:You Picks at the Farm - September 9
DESCRIPTION:Come and pick your own flower bouquet and enjoy the cool and quiet mornings over the meadow.  You can come any time in the morning time frame given\, with most people choosing to say about an hour.  We provide the cups & scissors and you can fill them up with your favorite looking flowers.  Second Street Coffeehouse will be pouring the cold brews and serving treats.  Feel free to bring a picnic breakfast to enjoy on our picnic tables.  Instructions for picking will be provided.  Don’t forget to bring your camera!  There is also a playset for littles. \nA few details to keep it fun for everyone: Please remember that we live here and be respectful of our home and property.  Tickets are nonrefundable.  Show your ticket or give your name at check-in.  Held rain or shine.  Please no pets as our dog will get very jealous and our chickens are free-range and need to be kept safe.  Wear comfortable shoes that may get muddy if it recently rained.  There is quite a bit of walking on uneven terrain involved.  If you need to request to drive up to the meadow for handicapped\, please send an email to liz@sunnymarymeadow.com and we can give instructions to access via the back driveway.  Strollers are welcome but know the grass paths aren’t always the easiest to push on.  Held rain or shine – umbrellas are fun! Bug spray + sunscreen strongly recommended.  Also\, remember that bees love flowers so use caution if you have an allergy.  There is no public restroom on site.  Some of the flowers that need to be picked a certain way (i.e. dahlias) will be pre-picked for you to take a few. \nEveryone needs either a picking ticket or a watching ticket.  Thank you for understanding that this policy was given a lot of thought and many factors went into this decision.  Please check out the “kids classes” options as I provided those for more family-friendly events for the kids that may not be too interested in the flowers!  Thank you and we can’t wait to share our farm with you.
URL:https://sunnymarymeadow.com/event/you-picks-at-the-farm-september-9/
LOCATION:Sunny Mary Meadow\, 8664 360th St\, St. Joseph\, MN\, 56374
ORGANIZER;CN="Elizabeth Fiedler":MAILTO:liz@sunnymarymeadow.com
GEO:45.6441457;-94.290437
X-APPLE-STRUCTURED-LOCATION;VALUE=URI;X-ADDRESS=Sunny Mary Meadow 8664 360th St St. Joseph MN 56374;X-APPLE-RADIUS=500;X-TITLE=8664 360th St:geo:-94.290437,45.6441457
END:VEVENT
BEGIN:VEVENT
DTSTART;TZID=America/New_York:20230912T100000
DTEND;TZID=America/New_York:20230912T103000
DTSTAMP:20260423T092510
CREATED:20230601T201126Z
LAST-MODIFIED:20230601T201126Z
UID:10000060-1694512800-1694514600@sunnymarymeadow.com
SUMMARY:Tuesday Tours - September 12
DESCRIPTION:So many of you have requested to come and visit the farm and get a full ins & outs tour\, and this is your chance!  We show you where and how the flowers are grown\, the high tunnel\, the cooler\, the flower fields\, and share our story.  Each participant needs either a tour or tour + bouquet ticket. \nTour will last approximately 30 minutes.  Wear comfortable shoes that may get muddy if it recently rained.  There is quite a bit of walking on uneven terrain involved.  Held rain or shine – umbrellas are fun! \nPlease note: this isn’t a comprehensive flower farming business tour.  I am happy to answer general flower farming questions and help out other farmers\, but this is moreso from the lens of the customer.  If you want a comprehensive “business” tour\, please send an email to discuss our consulting services.
URL:https://sunnymarymeadow.com/event/tuesday-tours-september-12/
LOCATION:Sunny Mary Meadow\, 8664 360th St\, St. Joseph\, MN\, 56374
ORGANIZER;CN="Elizabeth Fiedler":MAILTO:liz@sunnymarymeadow.com
GEO:45.6441457;-94.290437
X-APPLE-STRUCTURED-LOCATION;VALUE=URI;X-ADDRESS=Sunny Mary Meadow 8664 360th St St. Joseph MN 56374;X-APPLE-RADIUS=500;X-TITLE=8664 360th St:geo:-94.290437,45.6441457
END:VEVENT
BEGIN:VEVENT
DTSTART;TZID=America/New_York:20230912T163000
DTEND;TZID=America/New_York:20230912T183000
DTSTAMP:20260423T092510
CREATED:20230411T003754Z
LAST-MODIFIED:20230411T003754Z
UID:10000045-1694536200-1694543400@sunnymarymeadow.com
SUMMARY:Stem Bar at Bad Habit Brewery
DESCRIPTION:No need to sign up – just show up. Liz or Lindsay will be there to help you make a bouquet to take home. Cash or Venmo accepted. Price $20-30 depending on bouquet size.
URL:https://sunnymarymeadow.com/event/stem-bar-at-bad-habit-brewery/2023-09-12/
LOCATION:Bad Habit Brewery\, 25 College Ave N\, St. Joseph\, MN\, 56374\, United States
END:VEVENT
BEGIN:VEVENT
DTSTART;TZID=America/New_York:20230914T054500
DTEND;TZID=America/New_York:20230914T064500
DTSTAMP:20260423T092510
CREATED:20230730T214637Z
LAST-MODIFIED:20230730T214637Z
UID:10000088-1694670300-1694673900@sunnymarymeadow.com
SUMMARY:Sunrise Yoga in the Meadow with Shanti Yoga
DESCRIPTION:Join us for early morning yoga (5:45am!) at a very beautiful location\, Sunny Mary Meadows near St Joseph\, MN. We will start Thursday\, August 24 and will continue weekly classes through September 28. Cost includes yoga and a flower bouquet – $45.00. \nAll are welcome for this gentle wake up and welcome the sun practice. Outdoor yoga offers a chance to change your scenery and participate in a movement practice that enlivens your spirit and elevates your mindset and mood. Nature awakens your sense and helps you connect with your surroundings. Fresh air heightens your awareness of your breath and the smell of the flowers and outdoors can contribute to clarity and the ability to be in the present moment. \nWe ask that you please pre book for these classes due to high demand and limited space. This also helps Sunny Mary Meadows prepare bouquets for all! Brighten your day\, your home\, your workplace\, your mind with “Yoga in the Meadow!” \nLink to purchase: \nhttps://momence.com/Jessie-Sandoval/Yoga-in-the-Meadow/87747175?skipPreview=true
URL:https://sunnymarymeadow.com/event/sunrise-yoga-in-the-meadow-with-shanti-yoga/2023-09-14/
LOCATION:Sunny Mary Meadow\, 8664 360th St\, St. Joseph\, MN\, 56374
GEO:45.6441457;-94.290437
X-APPLE-STRUCTURED-LOCATION;VALUE=URI;X-ADDRESS=Sunny Mary Meadow 8664 360th St St. Joseph MN 56374;X-APPLE-RADIUS=500;X-TITLE=8664 360th St:geo:-94.290437,45.6441457
END:VEVENT
BEGIN:VEVENT
DTSTART;TZID=America/New_York:20230916T073000
DTEND;TZID=America/New_York:20230916T103000
DTSTAMP:20260423T092510
CREATED:20230602T000849Z
LAST-MODIFIED:20230602T000849Z
UID:10000071-1694849400-1694860200@sunnymarymeadow.com
SUMMARY:You Picks at the Farm - September 16
DESCRIPTION:Come and pick your own flower bouquet and enjoy the cool and quiet mornings over the meadow.  You can come any time in the morning time frame given\, with most people choosing to say about an hour.  We provide the cups & scissors and you can fill them up with your favorite looking flowers.  Second Street Coffeehouse will be pouring the cold brews and serving treats.  Feel free to bring a picnic breakfast to enjoy on our picnic tables.  Instructions for picking will be provided.  Don’t forget to bring your camera!  There is also a playset for littles. \nA few details to keep it fun for everyone: Please remember that we live here and be respectful of our home and property.  Tickets are nonrefundable.  Show your ticket or give your name at check-in.  Held rain or shine.  Please no pets as our dog will get very jealous and our chickens are free-range and need to be kept safe.  Wear comfortable shoes that may get muddy if it recently rained.  There is quite a bit of walking on uneven terrain involved.  If you need to request to drive up to the meadow for handicapped\, please send an email to liz@sunnymarymeadow.com and we can give instructions to access via the back driveway.  Strollers are welcome but know the grass paths aren’t always the easiest to push on.  Held rain or shine – umbrellas are fun! Bug spray + sunscreen strongly recommended.  Also\, remember that bees love flowers so use caution if you have an allergy.  There is no public restroom on site.  Some of the flowers that need to be picked a certain way (i.e. dahlias) will be pre-picked for you to take a few. \nEveryone needs either a picking ticket or a watching ticket.  Thank you for understanding that this policy was given a lot of thought and many factors went into this decision.  Please check out the “kids classes” options as I provided those for more family-friendly events for the kids that may not be too interested in the flowers!  Thank you and we can’t wait to share our farm with you.
URL:https://sunnymarymeadow.com/event/you-picks-at-the-farm-september-16/
LOCATION:Sunny Mary Meadow\, 8664 360th St\, St. Joseph\, MN\, 56374
ORGANIZER;CN="Elizabeth Fiedler":MAILTO:liz@sunnymarymeadow.com
GEO:45.6441457;-94.290437
X-APPLE-STRUCTURED-LOCATION;VALUE=URI;X-ADDRESS=Sunny Mary Meadow 8664 360th St St. Joseph MN 56374;X-APPLE-RADIUS=500;X-TITLE=8664 360th St:geo:-94.290437,45.6441457
END:VEVENT
BEGIN:VEVENT
DTSTART;TZID=America/New_York:20230918T163000
DTEND;TZID=America/New_York:20230918T183000
DTSTAMP:20260423T092510
CREATED:20230602T002735Z
LAST-MODIFIED:20230602T002735Z
UID:10000078-1695054600-1695061800@sunnymarymeadow.com
SUMMARY:Stem Bar at the Farm
DESCRIPTION:Come any time between 4:30 and 6:30PM.  No ticket required.  Build your own bouquet from our pre-picked stems.  Based on what is seasonally blooming\, we will have about a dozen different flowers to add to your bouquet.  Feel free to check out the flower fields and mural while you visit.  We can’t wait to meet you!  $30/bouquet and usually 14-18 stems (depending on type of blooms) with cash & venmo accepted.  We will be popping in and out to say hi\, but it is self-serve.  Please bring exact change if paying with cash.
URL:https://sunnymarymeadow.com/event/stem-bar-at-the-farm-summer/2023-09-18/
LOCATION:Sunny Mary Meadow\, 8664 360th St\, St. Joseph\, MN\, 56374
ORGANIZER;CN="Elizabeth Fiedler":MAILTO:liz@sunnymarymeadow.com
GEO:45.6441457;-94.290437
X-APPLE-STRUCTURED-LOCATION;VALUE=URI;X-ADDRESS=Sunny Mary Meadow 8664 360th St St. Joseph MN 56374;X-APPLE-RADIUS=500;X-TITLE=8664 360th St:geo:-94.290437,45.6441457
END:VEVENT
BEGIN:VEVENT
DTSTART;TZID=America/New_York:20230919T100000
DTEND;TZID=America/New_York:20230919T103000
DTSTAMP:20260423T092510
CREATED:20230601T201349Z
LAST-MODIFIED:20230601T201349Z
UID:10000061-1695117600-1695119400@sunnymarymeadow.com
SUMMARY:Tuesday Tours - September 19
DESCRIPTION:So many of you have requested to come and visit the farm and get a full ins & outs tour\, and this is your chance!  We show you where and how the flowers are grown\, the high tunnel\, the cooler\, the flower fields\, and share our story.  Each participant needs either a tour or tour + bouquet ticket. \nTour will last approximately 30 minutes.  Wear comfortable shoes that may get muddy if it recently rained.  There is quite a bit of walking on uneven terrain involved.  Held rain or shine – umbrellas are fun! \nPlease note: this isn’t a comprehensive flower farming business tour.  I am happy to answer general flower farming questions and help out other farmers\, but this is moreso from the lens of the customer.  If you want a comprehensive “business” tour\, please send an email to discuss our consulting services.
URL:https://sunnymarymeadow.com/event/tuesday-tours-september-19/
LOCATION:Sunny Mary Meadow\, 8664 360th St\, St. Joseph\, MN\, 56374
ORGANIZER;CN="Elizabeth Fiedler":MAILTO:liz@sunnymarymeadow.com
GEO:45.6441457;-94.290437
X-APPLE-STRUCTURED-LOCATION;VALUE=URI;X-ADDRESS=Sunny Mary Meadow 8664 360th St St. Joseph MN 56374;X-APPLE-RADIUS=500;X-TITLE=8664 360th St:geo:-94.290437,45.6441457
END:VEVENT
BEGIN:VEVENT
DTSTART;TZID=America/New_York:20230921T054500
DTEND;TZID=America/New_York:20230921T064500
DTSTAMP:20260423T092510
CREATED:20230730T214637Z
LAST-MODIFIED:20230730T214637Z
UID:10000089-1695275100-1695278700@sunnymarymeadow.com
SUMMARY:Sunrise Yoga in the Meadow with Shanti Yoga
DESCRIPTION:Join us for early morning yoga (5:45am!) at a very beautiful location\, Sunny Mary Meadows near St Joseph\, MN. We will start Thursday\, August 24 and will continue weekly classes through September 28. Cost includes yoga and a flower bouquet – $45.00. \nAll are welcome for this gentle wake up and welcome the sun practice. Outdoor yoga offers a chance to change your scenery and participate in a movement practice that enlivens your spirit and elevates your mindset and mood. Nature awakens your sense and helps you connect with your surroundings. Fresh air heightens your awareness of your breath and the smell of the flowers and outdoors can contribute to clarity and the ability to be in the present moment. \nWe ask that you please pre book for these classes due to high demand and limited space. This also helps Sunny Mary Meadows prepare bouquets for all! Brighten your day\, your home\, your workplace\, your mind with “Yoga in the Meadow!” \nLink to purchase: \nhttps://momence.com/Jessie-Sandoval/Yoga-in-the-Meadow/87747175?skipPreview=true
URL:https://sunnymarymeadow.com/event/sunrise-yoga-in-the-meadow-with-shanti-yoga/2023-09-21/
LOCATION:Sunny Mary Meadow\, 8664 360th St\, St. Joseph\, MN\, 56374
GEO:45.6441457;-94.290437
X-APPLE-STRUCTURED-LOCATION;VALUE=URI;X-ADDRESS=Sunny Mary Meadow 8664 360th St St. Joseph MN 56374;X-APPLE-RADIUS=500;X-TITLE=8664 360th St:geo:-94.290437,45.6441457
END:VEVENT
BEGIN:VEVENT
DTSTART;TZID=America/New_York:20230924T090000
DTEND;TZID=America/New_York:20230924T110000
DTSTAMP:20260423T092510
CREATED:20230812T161259Z
LAST-MODIFIED:20230812T161259Z
UID:10000091-1695546000-1695553200@sunnymarymeadow.com
SUMMARY:Dahlia Day
DESCRIPTION:**What’s Included in your ticket:** \nA MASSIVE stem bar.  3-5 dahlias per bouquet (hopefully 5 as long as they all bloom at the right time!)\, and 25+ stems.  I’m going to do some swaps with other local flower farms to get some fun variety and offer some different things.  This would be equivalent to what we sell as a $60 bouquet. \nYou can privately shop Town Line Candle Company with their hand poured scents just a few miles from the farm. \n9/21/23 due to the forecast of a very rainy weekend.  We decided to cancel some of the vendors and pivot a bit.  Emails have been sent to those that already purchased at the original price.  We will either refund the ticket difference or give you the difference in pumpkins/mums/merch/etc. \nIt’s still going to be a fun morning and a BEAUTIFUL bouquet\, but we just don’t think anyone is going to enjoy frolicking in the meadow in the rain.
URL:https://sunnymarymeadow.com/event/dahlia-day/
LOCATION:Sunny Mary Meadow\, 8664 360th St\, St. Joseph\, MN\, 56374
ATTACH;FMTTYPE=image/jpeg:https://sunnymarymeadow.com/wp-content/uploads/2023/08/9559E165-0095-42C7-9789-380DF29FB26A.jpg
GEO:45.6441457;-94.290437
X-APPLE-STRUCTURED-LOCATION;VALUE=URI;X-ADDRESS=Sunny Mary Meadow 8664 360th St St. Joseph MN 56374;X-APPLE-RADIUS=500;X-TITLE=8664 360th St:geo:-94.290437,45.6441457
END:VEVENT
BEGIN:VEVENT
DTSTART;TZID=America/New_York:20230928T054500
DTEND;TZID=America/New_York:20230928T064500
DTSTAMP:20260423T092510
CREATED:20230730T214637Z
LAST-MODIFIED:20230730T214637Z
UID:10000090-1695879900-1695883500@sunnymarymeadow.com
SUMMARY:Sunrise Yoga in the Meadow with Shanti Yoga
DESCRIPTION:Join us for early morning yoga (5:45am!) at a very beautiful location\, Sunny Mary Meadows near St Joseph\, MN. We will start Thursday\, August 24 and will continue weekly classes through September 28. Cost includes yoga and a flower bouquet – $45.00. \nAll are welcome for this gentle wake up and welcome the sun practice. Outdoor yoga offers a chance to change your scenery and participate in a movement practice that enlivens your spirit and elevates your mindset and mood. Nature awakens your sense and helps you connect with your surroundings. Fresh air heightens your awareness of your breath and the smell of the flowers and outdoors can contribute to clarity and the ability to be in the present moment. \nWe ask that you please pre book for these classes due to high demand and limited space. This also helps Sunny Mary Meadows prepare bouquets for all! Brighten your day\, your home\, your workplace\, your mind with “Yoga in the Meadow!” \nLink to purchase: \nhttps://momence.com/Jessie-Sandoval/Yoga-in-the-Meadow/87747175?skipPreview=true
URL:https://sunnymarymeadow.com/event/sunrise-yoga-in-the-meadow-with-shanti-yoga/2023-09-28/
LOCATION:Sunny Mary Meadow\, 8664 360th St\, St. Joseph\, MN\, 56374
GEO:45.6441457;-94.290437
X-APPLE-STRUCTURED-LOCATION;VALUE=URI;X-ADDRESS=Sunny Mary Meadow 8664 360th St St. Joseph MN 56374;X-APPLE-RADIUS=500;X-TITLE=8664 360th St:geo:-94.290437,45.6441457
END:VEVENT
BEGIN:VEVENT
DTSTART;TZID=America/New_York:20230930T080000
DTEND;TZID=America/New_York:20230930T100000
DTSTAMP:20260423T092510
CREATED:20230927T205218Z
LAST-MODIFIED:20230927T205218Z
UID:10000095-1696060800-1696068000@sunnymarymeadow.com
SUMMARY:You Picks at the Farm - September 30
DESCRIPTION:Come and pick your own flower bouquet and enjoy the cool and quiet mornings over the meadow.  You can come any time in the morning time frame given\, with most people choosing to say about an hour.  We provide the cups & scissors and you can fill them up with your favorite looking flowers.  Second Street Coffeehouse will be pouring the cold brews and serving treats.  Feel free to bring a picnic breakfast to enjoy on our picnic tables.  Instructions for picking will be provided.  Don’t forget to bring your camera!  There is also a playset for littles. \nA few details to keep it fun for everyone: Please remember that we live here and be respectful of our home and property.  Tickets are nonrefundable.  Show your ticket or give your name at check-in.  Held rain or shine.  Please no pets as our dog will get very jealous and our chickens are free-range and need to be kept safe.  Wear comfortable shoes that may get muddy if it recently rained.  There is quite a bit of walking on uneven terrain involved.  If you need to request to drive up to the meadow for handicapped\, please send an email to liz@sunnymarymeadow.com and we can give instructions to access via the back driveway.  Strollers are welcome but know the grass paths aren’t always the easiest to push on.  Held rain or shine – umbrellas are fun! Bug spray + sunscreen strongly recommended.  Also\, remember that bees love flowers so use caution if you have an allergy.  There is no public restroom on site.  Some of the flowers that need to be picked a certain way (i.e. dahlias) will be pre-picked for you to take a few. \nEveryone needs either a picking ticket or a watching ticket.  Thank you for understanding that this policy was given a lot of thought and many factors went into this decision.  Please check out the “kids classes” options as I provided those for more family-friendly events for the kids that may not be too interested in the flowers!  Thank you and we can’t wait to share our farm with you.
URL:https://sunnymarymeadow.com/event/you-picks-at-the-farm-september-30/
LOCATION:Sunny Mary Meadow\, 8664 360th St\, St. Joseph\, MN\, 56374
ORGANIZER;CN="Elizabeth Fiedler":MAILTO:liz@sunnymarymeadow.com
GEO:45.6441457;-94.290437
X-APPLE-STRUCTURED-LOCATION;VALUE=URI;X-ADDRESS=Sunny Mary Meadow 8664 360th St St. Joseph MN 56374;X-APPLE-RADIUS=500;X-TITLE=8664 360th St:geo:-94.290437,45.6441457
END:VEVENT
END:VCALENDAR