BEGIN:VCALENDAR
VERSION:2.0
PRODID:-//Sunny Mary Meadow - ECPv6.15.20//NONSGML v1.0//EN
CALSCALE:GREGORIAN
METHOD:PUBLISH
X-WR-CALNAME:Sunny Mary Meadow
X-ORIGINAL-URL:https://sunnymarymeadow.com
X-WR-CALDESC:Events for Sunny Mary Meadow
REFRESH-INTERVAL;VALUE=DURATION:PT1H
X-Robots-Tag:noindex
X-PUBLISHED-TTL:PT1H
BEGIN:VTIMEZONE
TZID:America/New_York
BEGIN:DAYLIGHT
TZOFFSETFROM:-0500
TZOFFSETTO:-0400
TZNAME:EDT
DTSTART:20220313T070000
END:DAYLIGHT
BEGIN:STANDARD
TZOFFSETFROM:-0400
TZOFFSETTO:-0500
TZNAME:EST
DTSTART:20221106T060000
END:STANDARD
BEGIN:DAYLIGHT
TZOFFSETFROM:-0500
TZOFFSETTO:-0400
TZNAME:EDT
DTSTART:20230312T070000
END:DAYLIGHT
BEGIN:STANDARD
TZOFFSETFROM:-0400
TZOFFSETTO:-0500
TZNAME:EST
DTSTART:20231105T060000
END:STANDARD
BEGIN:DAYLIGHT
TZOFFSETFROM:-0500
TZOFFSETTO:-0400
TZNAME:EDT
DTSTART:20240310T070000
END:DAYLIGHT
BEGIN:STANDARD
TZOFFSETFROM:-0400
TZOFFSETTO:-0500
TZNAME:EST
DTSTART:20241103T060000
END:STANDARD
END:VTIMEZONE
BEGIN:VEVENT
DTSTART;TZID=America/New_York:20230607T160000
DTEND;TZID=America/New_York:20230607T210000
DTSTAMP:20260423T135021
CREATED:20230405T040131Z
LAST-MODIFIED:20230405T040131Z
UID:10000135-1686153600-1686171600@sunnymarymeadow.com
SUMMARY:Stem Bar at Wood Fired Wednesday Rolling Ridge
DESCRIPTION:Liz or Lindsay will be at these events helping you put together a bouquet\nFlowers available until sold out on a first come / first served basis.\nPrice: $20-$30 depending on bouquet size. Cash or Venmo at time of purchase.\n\n  \nHope to see you there! Questions? Email liz@sunnymarymeadow.com \nFor more info\, check out the Rolling Ridge Website: https://rollingridgeevents.com/woodfirewednesdays/
URL:https://sunnymarymeadow.com/event/stem-bar-at-wood-fired-wednesday-rolling-ridge-3/2023-06-07/
LOCATION:MN
END:VEVENT
BEGIN:VEVENT
DTSTART;TZID=America/New_York:20230621T160000
DTEND;TZID=America/New_York:20230621T210000
DTSTAMP:20260423T135021
CREATED:20230405T040131Z
LAST-MODIFIED:20230405T040131Z
UID:10000136-1687363200-1687381200@sunnymarymeadow.com
SUMMARY:Stem Bar at Wood Fired Wednesday Rolling Ridge
DESCRIPTION:Liz or Lindsay will be at these events helping you put together a bouquet\nFlowers available until sold out on a first come / first served basis.\nPrice: $20-$30 depending on bouquet size. Cash or Venmo at time of purchase.\n\n  \nHope to see you there! Questions? Email liz@sunnymarymeadow.com \nFor more info\, check out the Rolling Ridge Website: https://rollingridgeevents.com/woodfirewednesdays/
URL:https://sunnymarymeadow.com/event/stem-bar-at-wood-fired-wednesday-rolling-ridge-3/2023-06-21/
LOCATION:MN
END:VEVENT
BEGIN:VEVENT
DTSTART;TZID=America/New_York:20230627T100000
DTEND;TZID=America/New_York:20230627T103000
DTSTAMP:20260423T135021
CREATED:20230601T194455Z
LAST-MODIFIED:20230601T194455Z
UID:10000050-1687860000-1687861800@sunnymarymeadow.com
SUMMARY:Tuesday Tours - June 27
DESCRIPTION:So many of you have requested to come and visit the farm and get a full ins & outs tour\, and this is your chance!  We show you where and how the flowers are grown\, the high tunnel\, the cooler\, the flower fields\, and share our story.  Each participant needs either a tour or tour + bouquet ticket. \nTour will last approximately 30 minutes.  Wear comfortable shoes that may get muddy if it recently rained.  There is quite a bit of walking on uneven terrain involved.  Held rain or shine – umbrellas are fun! \nPlease note: this isn’t a comprehensive flower farming business tour.  I am happy to answer general flower farming questions and help out other farmers\, but this is moreso from the lens of the customer.  If you want a comprehensive “business” tour\, please send an email to discuss our consulting services.
URL:https://sunnymarymeadow.com/event/tuesday-tours-june-27/
LOCATION:Sunny Mary Meadow\, 8664 360th St\, St. Joseph\, MN\, 56374
ORGANIZER;CN="Elizabeth Fiedler":MAILTO:liz@sunnymarymeadow.com
GEO:45.6441457;-94.290437
X-APPLE-STRUCTURED-LOCATION;VALUE=URI;X-ADDRESS=Sunny Mary Meadow 8664 360th St St. Joseph MN 56374;X-APPLE-RADIUS=500;X-TITLE=8664 360th St:geo:-94.290437,45.6441457
END:VEVENT
END:VCALENDAR