BEGIN:VCALENDAR
VERSION:2.0
PRODID:-//Sunny Mary Meadow - ECPv6.15.20//NONSGML v1.0//EN
CALSCALE:GREGORIAN
METHOD:PUBLISH
X-WR-CALNAME:Sunny Mary Meadow
X-ORIGINAL-URL:https://sunnymarymeadow.com
X-WR-CALDESC:Events for Sunny Mary Meadow
REFRESH-INTERVAL;VALUE=DURATION:PT1H
X-Robots-Tag:noindex
X-PUBLISHED-TTL:PT1H
BEGIN:VTIMEZONE
TZID:America/New_York
BEGIN:DAYLIGHT
TZOFFSETFROM:-0500
TZOFFSETTO:-0400
TZNAME:EDT
DTSTART:20210314T070000
END:DAYLIGHT
BEGIN:STANDARD
TZOFFSETFROM:-0400
TZOFFSETTO:-0500
TZNAME:EST
DTSTART:20211107T060000
END:STANDARD
BEGIN:DAYLIGHT
TZOFFSETFROM:-0500
TZOFFSETTO:-0400
TZNAME:EDT
DTSTART:20220313T070000
END:DAYLIGHT
BEGIN:STANDARD
TZOFFSETFROM:-0400
TZOFFSETTO:-0500
TZNAME:EST
DTSTART:20221106T060000
END:STANDARD
BEGIN:DAYLIGHT
TZOFFSETFROM:-0500
TZOFFSETTO:-0400
TZNAME:EDT
DTSTART:20230312T070000
END:DAYLIGHT
BEGIN:STANDARD
TZOFFSETFROM:-0400
TZOFFSETTO:-0500
TZNAME:EST
DTSTART:20231105T060000
END:STANDARD
END:VTIMEZONE
BEGIN:VEVENT
DTSTART;TZID=America/New_York:20221112T090000
DTEND;TZID=America/New_York:20221112T100000
DTSTAMP:20260424T012912
CREATED:20221019T222417Z
LAST-MODIFIED:20221019T222417Z
UID:10000024-1668243600-1668247200@sunnymarymeadow.com
SUMMARY:Naked Porch Pot Stem Bar at WR Home Company
DESCRIPTION:You will come and decorate your “naked” porch pot (pre-filled with spruce tips\, cedar\, and white pine branches) \nYou can add curly willow\, dogwood\, pinecones\, berries\, dried flowers\, and other goodies. \nCost will include 10-12 add-ons and an a la carte price if you want to fill it extra plump.
URL:https://sunnymarymeadow.com/event/naked-porch-pot-stem-bar-at-wr-home-company/
LOCATION:WR Home Company\, 25 1st Ave NW\, St. Joseph\, MN\, 56374\, United States
END:VEVENT
BEGIN:VEVENT
DTSTART;TZID=America/New_York:20221112T100000
DTEND;TZID=America/New_York:20221112T110000
DTSTAMP:20260424T012912
CREATED:20221019T231506Z
LAST-MODIFIED:20221019T231506Z
UID:10000025-1668247200-1668250800@sunnymarymeadow.com
SUMMARY:Naked Porch Pot Stem Bar at WR Home Company (session 2)
DESCRIPTION:You will come and decorate your “naked” porch pot (pre-filled with spruce tips\, cedar\, and white pine branches) \nYou can add curly willow\, dogwood\, pinecones\, berries\, dried flowers\, and other goodies. \nCost will include 10-12 add-ons and an a la carte price if you want to fill it extra plump.
URL:https://sunnymarymeadow.com/event/naked-porch-pot-stem-bar-at-wr-home-company-session-2/
LOCATION:WR Home Company\, 25 1st Ave NW\, St. Joseph\, MN\, 56374\, United States
END:VEVENT
BEGIN:VEVENT
DTSTART;TZID=America/New_York:20221113T150000
DTEND;TZID=America/New_York:20221113T170000
DTSTAMP:20260424T012912
CREATED:20221019T231803Z
LAST-MODIFIED:20221019T231803Z
UID:10000026-1668351600-1668358800@sunnymarymeadow.com
SUMMARY:Naked Porch Pot Stem Bar at the Farm
DESCRIPTION:You will come and decorate your “naked” porch pot (pre-filled with spruce tips\, cedar\, and white pine branches) \nYou can add curly willow\, dogwood\, pinecones\, berries\, dried flowers\, and other goodies. \nCost will include 10-12 add-ons and an a la carte price if you want to fill it extra plump \nWe will be in my heated shop with extra wreaths/other goodies for sale.  Vi will be slinging the hot chocolate and feel free to BYOB and add some Sunday Funday goodness to it if you want!
URL:https://sunnymarymeadow.com/event/naked-porch-pot-stem-bar-at-the-farm/
LOCATION:Sunny Mary Meadow\, 8664 360th St\, St. Joseph\, MN\, 56374
GEO:45.6441457;-94.290437
X-APPLE-STRUCTURED-LOCATION;VALUE=URI;X-ADDRESS=Sunny Mary Meadow 8664 360th St St. Joseph MN 56374;X-APPLE-RADIUS=500;X-TITLE=8664 360th St:geo:-94.290437,45.6441457
END:VEVENT
BEGIN:VEVENT
DTSTART;TZID=America/New_York:20221118T180000
DTEND;TZID=America/New_York:20221118T193000
DTSTAMP:20260424T012912
CREATED:20221019T232017Z
LAST-MODIFIED:20221019T232017Z
UID:10000027-1668794400-1668799800@sunnymarymeadow.com
SUMMARY:Porch Pot Class at BackShed Brewery
DESCRIPTION:Bring your own pot or use one of ours (standard garden pot) \nBasic design elements of building your own pot.  We have the filler\, spillers\, and thrillers.
URL:https://sunnymarymeadow.com/event/porch-pot-class-at-backshed-brewery/
LOCATION:Back Shed Brewery\, Waite Park\, MN\, United States
END:VEVENT
BEGIN:VEVENT
DTSTART;TZID=America/New_York:20221122T170000
DTEND;TZID=America/New_York:20221122T190000
DTSTAMP:20260424T012912
CREATED:20221118T195903Z
LAST-MODIFIED:20221118T195903Z
UID:10000030-1669136400-1669143600@sunnymarymeadow.com
SUMMARY:Naked Porch Pot Stem Bar at the Farm
DESCRIPTION:You will come and decorate your “naked” porch pot (pre-filled with spruce tips\, cedar\, and white pine branches) \nYou can add curly willow\, dogwood\, pinecones\, berries\, dried flowers\, and other goodies. \nCost will include 10-12 add-ons and an a la carte price if you want to fill it extra plump \nWe will be in my heated shop with extra wreaths/other goodies for sale.  Vi will be slinging the hot chocolate and feel free to BYOB and add some Sunday Funday goodness to it if you want!
URL:https://sunnymarymeadow.com/event/naked-porch-pot-stem-bar-at-the-farm-2/
LOCATION:Sunny Mary Meadow\, 8664 360th St\, St. Joseph\, MN\, 56374
GEO:45.6441457;-94.290437
X-APPLE-STRUCTURED-LOCATION;VALUE=URI;X-ADDRESS=Sunny Mary Meadow 8664 360th St St. Joseph MN 56374;X-APPLE-RADIUS=500;X-TITLE=8664 360th St:geo:-94.290437,45.6441457
END:VEVENT
BEGIN:VEVENT
DTSTART;TZID=America/New_York:20221125T140000
DTEND;TZID=America/New_York:20221125T160000
DTSTAMP:20260424T012912
CREATED:20221118T200735Z
LAST-MODIFIED:20221118T200735Z
UID:10000031-1669384800-1669392000@sunnymarymeadow.com
SUMMARY:Naked Porch Pot Stem Bar at the Farm
DESCRIPTION:You will come and decorate your “naked” porch pot (pre-filled with spruce tips\, cedar\, and white pine branches) \nYou can add curly willow\, dogwood\, pinecones\, berries\, dried flowers\, and other goodies. \nCost will include 10-12 add-ons and an a la carte price if you want to fill it extra plump \nWe will be in my heated shop with extra wreaths/other goodies for sale.  Vi will be slinging the hot chocolate and feel free to BYOB and add some Sunday Funday goodness to it if you want!
URL:https://sunnymarymeadow.com/event/naked-porch-pot-stem-bar-at-the-farm-3/
LOCATION:Sunny Mary Meadow\, 8664 360th St\, St. Joseph\, MN\, 56374
GEO:45.6441457;-94.290437
X-APPLE-STRUCTURED-LOCATION;VALUE=URI;X-ADDRESS=Sunny Mary Meadow 8664 360th St St. Joseph MN 56374;X-APPLE-RADIUS=500;X-TITLE=8664 360th St:geo:-94.290437,45.6441457
END:VEVENT
END:VCALENDAR