BEGIN:VCALENDAR
VERSION:2.0
PRODID:-//Sunny Mary Meadow - ECPv6.15.20//NONSGML v1.0//EN
CALSCALE:GREGORIAN
METHOD:PUBLISH
X-WR-CALNAME:Sunny Mary Meadow
X-ORIGINAL-URL:https://sunnymarymeadow.com
X-WR-CALDESC:Events for Sunny Mary Meadow
REFRESH-INTERVAL;VALUE=DURATION:PT1H
X-Robots-Tag:noindex
X-PUBLISHED-TTL:PT1H
BEGIN:VTIMEZONE
TZID:America/New_York
BEGIN:DAYLIGHT
TZOFFSETFROM:-0500
TZOFFSETTO:-0400
TZNAME:EDT
DTSTART:20210314T070000
END:DAYLIGHT
BEGIN:STANDARD
TZOFFSETFROM:-0400
TZOFFSETTO:-0500
TZNAME:EST
DTSTART:20211107T060000
END:STANDARD
BEGIN:DAYLIGHT
TZOFFSETFROM:-0500
TZOFFSETTO:-0400
TZNAME:EDT
DTSTART:20220313T070000
END:DAYLIGHT
BEGIN:STANDARD
TZOFFSETFROM:-0400
TZOFFSETTO:-0500
TZNAME:EST
DTSTART:20221106T060000
END:STANDARD
BEGIN:DAYLIGHT
TZOFFSETFROM:-0500
TZOFFSETTO:-0400
TZNAME:EDT
DTSTART:20230312T070000
END:DAYLIGHT
BEGIN:STANDARD
TZOFFSETFROM:-0400
TZOFFSETTO:-0500
TZNAME:EST
DTSTART:20231105T060000
END:STANDARD
END:VTIMEZONE
BEGIN:VTIMEZONE
TZID:America/Chicago
BEGIN:DAYLIGHT
TZOFFSETFROM:-0600
TZOFFSETTO:-0500
TZNAME:CDT
DTSTART:20210314T080000
END:DAYLIGHT
BEGIN:STANDARD
TZOFFSETFROM:-0500
TZOFFSETTO:-0600
TZNAME:CST
DTSTART:20211107T070000
END:STANDARD
BEGIN:DAYLIGHT
TZOFFSETFROM:-0600
TZOFFSETTO:-0500
TZNAME:CDT
DTSTART:20220313T080000
END:DAYLIGHT
BEGIN:STANDARD
TZOFFSETFROM:-0500
TZOFFSETTO:-0600
TZNAME:CST
DTSTART:20221106T070000
END:STANDARD
BEGIN:DAYLIGHT
TZOFFSETFROM:-0600
TZOFFSETTO:-0500
TZNAME:CDT
DTSTART:20230312T080000
END:DAYLIGHT
BEGIN:STANDARD
TZOFFSETFROM:-0500
TZOFFSETTO:-0600
TZNAME:CST
DTSTART:20231105T070000
END:STANDARD
END:VTIMEZONE
BEGIN:VEVENT
DTSTART;TZID=America/New_York:20220901T180000
DTEND;TZID=America/New_York:20220901T193000
DTSTAMP:20260424T043404
CREATED:20220805T193256Z
LAST-MODIFIED:20220805T193256Z
UID:10000013-1662055200-1662060600@sunnymarymeadow.com
SUMMARY:Stem Bar at Bad Habit
DESCRIPTION:I’ll bring bucket loads of flowers at Bad Habit Brewery in St. Joe.  You can come any time and fill up a container with flowers grown just a few miles away.  Cash or Venmo accepted.  No need to sign up ahead of time — just show up!
URL:https://sunnymarymeadow.com/event/stem-bar-at-bad-habit-3/
LOCATION:Bad Habit Brewery\, 25 College Ave N\, St. Joseph\, MN\, 56374\, United States
END:VEVENT
BEGIN:VEVENT
DTSTART;TZID=America/Chicago:20220903T080000
DTEND;TZID=America/Chicago:20220903T093000
DTSTAMP:20260424T043404
CREATED:20220830T160652Z
LAST-MODIFIED:20220830T160652Z
UID:10000018-1662192000-1662197400@sunnymarymeadow.com
SUMMARY:Stem Bar at Second Street Coffee House Sartell
DESCRIPTION:I’ll bring bucket loads of flowers to Second Street Coffee House Sartell.  You can come and fill up a container with flowers grown just a few miles away.  Cash or Venmo accepted.  No need to sign up ahead of time — just show up!
URL:https://sunnymarymeadow.com/event/stem-bar-at-second-street-coffee-house-sartell/
LOCATION:Second Street Coffee House Sartell\, 1091 2nd St S Ste 600\, Sartell\, MN\, 56377
END:VEVENT
BEGIN:VEVENT
DTSTART;TZID=America/Chicago:20220905T180000
DTEND;TZID=America/Chicago:20220905T193000
DTSTAMP:20260424T043404
CREATED:20220830T161826Z
LAST-MODIFIED:20220830T161826Z
UID:10000019-1662400800-1662406200@sunnymarymeadow.com
SUMMARY:Stem Bar at the Farm
DESCRIPTION:Stem Bar at the farm.  Come build your own bouquet.  Cash or Venmo accepted.  No need to sign up ahead of time — just show up!  Can’t wait to meet you and show you this beautiful place!
URL:https://sunnymarymeadow.com/event/stem-bar-at-the-farm-2/
LOCATION:Sunny Mary Meadow\, 8664 360th St\, St. Joseph\, MN\, 56374
GEO:45.6441457;-94.290437
X-APPLE-STRUCTURED-LOCATION;VALUE=URI;X-ADDRESS=Sunny Mary Meadow 8664 360th St St. Joseph MN 56374;X-APPLE-RADIUS=500;X-TITLE=8664 360th St:geo:-94.290437,45.6441457
END:VEVENT
BEGIN:VEVENT
DTSTART;TZID=America/Chicago:20220906T180000
DTEND;TZID=America/Chicago:20220906T200000
DTSTAMP:20260424T043404
CREATED:20220830T163159Z
LAST-MODIFIED:20220830T163159Z
UID:10000021-1662487200-1662494400@sunnymarymeadow.com
SUMMARY:Ticketed Tour & Class at the Farm
DESCRIPTION:Ticket required. \nTour of the flower farm and a lesson on building your own bouquet — bring home a mason jar of flowers included in ticket price.  Feel free to bring your own snacks or beverages to enjoy.
URL:https://sunnymarymeadow.com/event/tour-class-at-the-farm/
LOCATION:MN
END:VEVENT
BEGIN:VEVENT
DTSTART;TZID=America/Chicago:20220908T180000
DTEND;TZID=America/Chicago:20220908T193000
DTSTAMP:20260424T043404
CREATED:20220830T162004Z
LAST-MODIFIED:20220830T162004Z
UID:10000020-1662660000-1662665400@sunnymarymeadow.com
SUMMARY:Stem Bar at the Farm
DESCRIPTION:Stem Bar at the farm.  Come build your own bouquet.  Cash or Venmo accepted.  No need to sign up ahead of time — just show up!  Can’t wait to meet you and show you this beautiful place!
URL:https://sunnymarymeadow.com/event/stem-bar-at-the-farm-3/
LOCATION:Sunny Mary Meadow\, 8664 360th St\, St. Joseph\, MN\, 56374
GEO:45.6441457;-94.290437
X-APPLE-STRUCTURED-LOCATION;VALUE=URI;X-ADDRESS=Sunny Mary Meadow 8664 360th St St. Joseph MN 56374;X-APPLE-RADIUS=500;X-TITLE=8664 360th St:geo:-94.290437,45.6441457
END:VEVENT
BEGIN:VEVENT
DTSTART;TZID=America/Chicago:20220911T093000
DTEND;TZID=America/Chicago:20220911T113000
DTSTAMP:20260424T043404
CREATED:20220830T163954Z
LAST-MODIFIED:20220830T163954Z
UID:10000022-1662888600-1662895800@sunnymarymeadow.com
SUMMARY:Dahlia Day at the Farm (Morning Session)
DESCRIPTION:Morning session SOLD OUT \nThere are still afternoon spots \nCome out the farm and do some shopping — see ticket details for what it all includes! \nThis is a ticketed event and we anticipate tickets sell out FAST! \nWe do ask that you try to carpool if possible. \n  \nWhat your ticket gets you (to be used at the event): \nFREE mixed bouquet of flowers ($30 value) \n$5 off your purchase of $40 or more from Town Line Candle Co \n15% off your entire order at E & Co Clothing \n$5 off one copy of When Flowers Bloom \n  \n…more deals to be posted as vendors confirm!
URL:https://sunnymarymeadow.com/event/dahlia-day-at-the-farm-morning-session/
LOCATION:Sunny Mary Meadow\, 8664 360th St\, St. Joseph\, MN\, 56374
GEO:45.6441457;-94.290437
X-APPLE-STRUCTURED-LOCATION;VALUE=URI;X-ADDRESS=Sunny Mary Meadow 8664 360th St St. Joseph MN 56374;X-APPLE-RADIUS=500;X-TITLE=8664 360th St:geo:-94.290437,45.6441457
END:VEVENT
BEGIN:VEVENT
DTSTART;TZID=America/Chicago:20220911T130000
DTEND;TZID=America/Chicago:20220911T150000
DTSTAMP:20260424T043404
CREATED:20220830T164135Z
LAST-MODIFIED:20220830T164135Z
UID:10000023-1662901200-1662908400@sunnymarymeadow.com
SUMMARY:Dahlia Day at the Farm (Afternoon Session)
DESCRIPTION:Tickets go on sale starting at 6PM \n  \nCome out the farm and do some shopping — see ticket details for what it all includes! \nThis is a ticketed event and we anticipate tickets sell out FAST! \nWe do ask that you try to carpool if possible. \n  \nWhat your ticket gets you (to be used at the event): \nFREE mixed bouquet of flowers that you build yourself ($30 value) \n$5 off your purchase of $40 or more from Town Line Candle Co \n15% off your entire order at E & Co Clothing \n$5 off one copy of When Flowers Bloom \n  \n…more deals to be posted as vendors confirm!
URL:https://sunnymarymeadow.com/event/dahlia-day-at-the-farm-afternoon-session/
LOCATION:Sunny Mary Meadow\, 8664 360th St\, St. Joseph\, MN\, 56374
GEO:45.6441457;-94.290437
X-APPLE-STRUCTURED-LOCATION;VALUE=URI;X-ADDRESS=Sunny Mary Meadow 8664 360th St St. Joseph MN 56374;X-APPLE-RADIUS=500;X-TITLE=8664 360th St:geo:-94.290437,45.6441457
END:VEVENT
BEGIN:VEVENT
DTSTART;TZID=America/New_York:20220915T180000
DTEND;TZID=America/New_York:20220915T193000
DTSTAMP:20260424T043404
CREATED:20220805T193350Z
LAST-MODIFIED:20220805T193350Z
UID:10000014-1663264800-1663270200@sunnymarymeadow.com
SUMMARY:Stem Bar at Bad Habit
DESCRIPTION:I’ll bring bucket loads of flowers at Bad Habit Brewery in St. Joe.  You can come any time and fill up a container with flowers grown just a few miles away.  Cash or Venmo accepted.  No need to sign up ahead of time — just show up!
URL:https://sunnymarymeadow.com/event/stem-bar-at-bad-habit-4/
LOCATION:Bad Habit Brewery\, 25 College Ave N\, St. Joseph\, MN\, 56374\, United States
END:VEVENT
BEGIN:VEVENT
DTSTART;TZID=America/New_York:20220918T150000
DTEND;TZID=America/New_York:20220918T163000
DTSTAMP:20260424T043404
CREATED:20220805T193458Z
LAST-MODIFIED:20220805T193458Z
UID:10000015-1663513200-1663518600@sunnymarymeadow.com
SUMMARY:Stem Bar at Back Shed Brewery
DESCRIPTION:I’ll bring bucket loads of flowers at Back Shed Brewery in Waite Park.  You can come any time and fill up a container with flowers grown just a few miles away.  Cash or Venmo accepted.  No need to sign up ahead of time — just show up!
URL:https://sunnymarymeadow.com/event/stem-bar-at-back-shed-brewery/
LOCATION:Back Shed Brewery\, Waite Park\, MN\, United States
END:VEVENT
BEGIN:VEVENT
DTSTART;TZID=America/New_York:20220925T150000
DTEND;TZID=America/New_York:20220925T163000
DTSTAMP:20260424T043404
CREATED:20220805T193600Z
LAST-MODIFIED:20220805T193600Z
UID:10000016-1664118000-1664123400@sunnymarymeadow.com
SUMMARY:Stem Bar at Back Shed
DESCRIPTION:I’ll bring bucket loads of flowers at Back Shed Brewery in Waite Park.  You can come any time and fill up a container with flowers grown just a few miles away.  Cash or Venmo accepted.  No need to sign up ahead of time — just show up!
URL:https://sunnymarymeadow.com/event/stem-bar-at-back-shed-2/
LOCATION:Back Shed Brewery\, Waite Park\, MN\, United States
END:VEVENT
END:VCALENDAR